BEGIN:VCALENDAR
VERSION:2.0
PRODID:-//ChamberMaster//Event Calendar 2.0//EN
METHOD:PUBLISH
X-PUBLISHED-TTL:P3D
REFRESH-INTERVAL:P3D
CALSCALE:GREGORIAN
BEGIN:VEVENT
DTSTART:20180916T000000Z
DTEND:20180916T020000Z
X-MICROSOFT-CDO-ALLDAYEVENT:FALSE
SUMMARY:Dan Rufolo Trio
DESCRIPTION:Dan Rufolo\, Jazz Pianist returns to Mondo with his NY vocalist and bassist for a great night of jazz!
X-ALT-DESC;FMTTYPE=text/html:Dan Rufolo\, Jazz Pianist returns to Mondo with his NY vocalist and bassist for a great night of jazz!
LOCATION:Mondo\, Brownstone Theatre 3rd floor
UID:e.870.14360
SEQUENCE:3
DTSTAMP:20260421T005745Z
URL:https://business.suburbanchambers.org/events/details/dan-rufolo-trio-14360
END:VEVENT

END:VCALENDAR
