BEGIN:VCALENDAR
VERSION:2.0
PRODID:-//ChamberMaster//Event Calendar 2.0//EN
METHOD:PUBLISH
X-PUBLISHED-TTL:P3D
REFRESH-INTERVAL:P3D
CALSCALE:GREGORIAN
BEGIN:VEVENT
DTSTART:20180422T150000Z
DTEND:20180422T200000Z
X-MICROSOFT-CDO-ALLDAYEVENT:FALSE
SUMMARY:Daffodil Day at Reeves-Reed Arboretum
DESCRIPTION:Daffodil Day Celebrates the Earth on Sunday\, April 22 from 11:00 am to 4:00 pm! With Daffodil Day falling on Earth Day\, come celebrate spring and the Earth amongst thousands of daffodils at this festive\, family-fun event! Please consider walking or biking to Daffodil Day! Honor Earth Weekend and enjoy the beauty of Summit by leaving your car at home. Bikers can avoid busy Hobart Avenue by taking quiet Hobart Road off of Whittredge Road\, or Beacon Road and Ridge Road off of Fernwood Road. Extra bike racks will be on hand at the Arboretum.
X-ALT-DESC;FMTTYPE=text/html:Daffodil Day Celebrates the Earth on Sunday\, April 22 from 11:00 am to 4:00 pm! With Daffodil Day falling on Earth Day\, come celebrate spring and the Earth amongst thousands of daffodils at this festive\, family-fun event!&nbsp\;Please consider walking or biking to Daffodil Day! Honor Earth Weekend and enjoy the beauty of Summit by leaving your car at home. Bikers can avoid busy Hobart Avenue by taking quiet Hobart Road off of Whittredge Road\, or Beacon Road and Ridge Road off of Fernwood Road. Extra bike racks will be on hand at the Arboretum.&nbsp\;
LOCATION:Reeves-Reed Arboretum 165 Hobart Ave. Summit\, NJ 07901
UID:e.870.11772
SEQUENCE:3
DTSTAMP:20260421T193000Z
URL:https://business.suburbanchambers.org/events/details/daffodil-day-at-reeves-reed-arboretum-04-22-2018-11772
END:VEVENT

END:VCALENDAR
