BEGIN:VCALENDAR
VERSION:2.0
PRODID:-//ChamberMaster//Event Calendar 2.0//EN
METHOD:PUBLISH
X-PUBLISHED-TTL:P3D
REFRESH-INTERVAL:P3D
CALSCALE:GREGORIAN
BEGIN:VEVENT
DTSTART:20181209T000000Z
DTEND:20181209T020000Z
X-MICROSOFT-CDO-ALLDAYEVENT:FALSE
SUMMARY:Cyrille Aimée in Concert with Vodka & Latkes at Reeves-Reed Arboretum
DESCRIPTION:Songs...Sondheim...for Summit Reeves-Reed Arboretum welcomes the extraordinary Cyrille Aim e in a concert that is sure to turn up the heat on any frosty holiday weather. Called "astonishing creative...with a brilliant sound and impeccable rhythm" (The Wall Street Journal)\, "Aim e is a revelation!" (New York Daily News). This talented chanteuse takes vocal jazz into new and intoxicating directions and you'll find it impossible to not be charmed by her and the joyful spirit she invests in each and every song. Ms. Aim e will be accompanied by Hila Kulik on the piano. Immediately following Aim e's performance\, the Arboretum will offer a tasting of iced cold vodkas\, brought to you by Claremont Distillery\, and a sampling of a holiday indulgence\, potato latkes\, provided by David Ellis Events   a truly festive treat that will be sure to keep the most diehard Scrooge's spirits bright. Date/Time:  Saturday\, December 8\, 7:00pm. Location:  Reeves-Reed Arboretum\, 165 Hobart Ave.\, Summit\, NJ 07901 Ages:  Adult Cost:  Members: $75\, Non-Members: $100 Pre-Registration:  Required. On-Line Registration:  Visit our website  More Information:  RRA Website  Contact:  Doreen Schindler\, D.Schindler@Reeves-ReedArboretum.org\, (908) 273-8787 x1010.
X-ALT-DESC;FMTTYPE=text/html:Songs...Sondheim...for Summit Reeves-Reed Arboretum welcomes the extraordinary Cyrille Aim&eacute\;e in a concert that is sure to turn up the heat on any frosty holiday weather. Called &quot\;astonishing creative...with a brilliant sound and impeccable rhythm&quot\; (The Wall Street Journal)\, &quot\;Aim&eacute\;e is a revelation!&quot\; (New York Daily News). This talented chanteuse takes vocal jazz into new and intoxicating directions and you&#39\;ll find it impossible to not be charmed by her and the joyful spirit she invests in each and every song. Ms. Aim&eacute\;e will be accompanied by Hila Kulik on the piano. Immediately following Aim&eacute\;e&#39\;s performance\, the Arboretum will offer a tasting of iced cold vodkas\, brought to you by Claremont Distillery\, and a sampling of a holiday indulgence\, potato latkes\, provided by David Ellis Events &ndash\; a truly festive treat that will be sure to keep the most diehard Scrooge&#39\;s spirits bright. Date/Time:&nbsp\; Saturday\, December 8\, 7:00pm. Location:&nbsp\; Reeves-Reed Arboretum\, 165 Hobart Ave.\, Summit\, NJ 07901 Ages:&nbsp\; Adult Cost:&nbsp\; Members: $75\, Non-Members: $100 Pre-Registration:&nbsp\; Required. On-Line Registration:&nbsp\; Visit our website&nbsp\; More Information:&nbsp\; RRA Website&nbsp\; Contact:&nbsp\; Doreen Schindler\, D.Schindler@Reeves-ReedArboretum.org\, (908) 273-8787 x1010.
LOCATION:Reeves-Reed Arboretum\, 165 Hobart Ave.\, Summit\, NJ 07901
UID:e.870.14852
SEQUENCE:3
DTSTAMP:20260420T154056Z
URL:https://business.suburbanchambers.org/events/details/cyrille-aim&#233;e-in-concert-with-vodka-latkes-at-reeves-reed-arboretum-14852
END:VEVENT

END:VCALENDAR
