BEGIN:VCALENDAR
VERSION:2.0
PRODID:-//ChamberMaster//Event Calendar 2.0//EN
METHOD:PUBLISH
X-PUBLISHED-TTL:P3D
REFRESH-INTERVAL:P3D
CALSCALE:GREGORIAN
BEGIN:VEVENT
DTSTART:20190327T190000Z
DTEND:20190327T210000Z
X-MICROSOFT-CDO-ALLDAYEVENT:FALSE
SUMMARY:"Crimes of Grindelwald" Movie & Craft
DESCRIPTION:Calling all Harry Potter fans! Come at 3:00 to make magic wands and invisible ink messages\, then stay for the newly- released movie\, "Crimes of Grindelwald!"
X-ALT-DESC;FMTTYPE=text/html:Calling all Harry Potter fans! Come at 3:00 to make magic wands and invisible ink messages\, then stay for the newly- released movie\, &ldquo\;Crimes of Grindelwald!&rdquo\;&nbsp\;
LOCATION:New Providence Memorial Library
UID:e.870.15292
SEQUENCE:3
DTSTAMP:20260420T081511Z
URL:https://business.suburbanchambers.org/events/details/crimes-of-grindelwald-movie-craft-15292
END:VEVENT

END:VCALENDAR
