BEGIN:VCALENDAR
VERSION:2.0
PRODID:-//ChamberMaster//Event Calendar 2.0//EN
METHOD:PUBLISH
X-PUBLISHED-TTL:P3D
REFRESH-INTERVAL:P3D
CALSCALE:GREGORIAN
BEGIN:VEVENT
DTSTART:20190520T211500Z
DTEND:20190520T230000Z
X-MICROSOFT-CDO-ALLDAYEVENT:FALSE
SUMMARY:Creating the Future of the Suburban Chamber of Commerce\, Part II
DESCRIPTION:We need you!! \n\n  \n\nWe are Creating the Future of YOUR Suburban Chamber of Commerce! \n\n\n\nPlease see the video from Doug Brown below! \n\n\n\nThat is why your input is valuable!!\n\n \n\nIf you missed March please still join us!! \n\n#vision#mission#engagement\n\n\n\nLooking forward to seeing you!! \n\nBest always\,\n\nMarcella Gencarelli\n\nChairwoman
X-ALT-DESC;FMTTYPE=text/html:<span style="font-size:12px\;"><strong><span style="color:#376092\;">We need you!! </span></strong><br />\n<span style="font-size:8px\;">&nbsp\;&nbsp\;</span><br />\n<strong><span style="color:#376092\;">We are Creating the Future of YOUR Suburban Chamber of Commerce!&nbsp\;<br />\n<br />\nPlease see the video from Doug Brown below!&nbsp\;<br />\n<br />\nThat is why your input is valuable!!</span></strong><br />\n&nbsp\;<br />\n<strong><span style="color:#376092\;">If you missed March please still join us!! </span></strong><br />\n<strong><span style="color:#376092\;">#vision#mission#engagement</span></strong><br />\n<br />\n<strong><span style="color:#376092\;">Looking forward to seeing you!! </span></strong><br />\n<strong><span style="color:#376092\;">Best always\,</span></strong><br />\n<strong><span style="color:#376092\;">Marcella Gencarelli</span></strong><br />\n<strong><span style="color:#376092\;">Chairwoman </span></strong></span>
LOCATION:Attend in Person at New Jersey Sharing Network 691 Central Avenue\, New Providence or attend electronically REMOTE attendance - 5:27pm sharp You can dial in to Join by phone only. Dial 908-219-8283 then enter Conference ID: 84783 OR Videoconference in to fully participate in the session. You can use either mobile or desktop applications of Skype for Business. You can download it for free from Microsoft in advance of the meeting. Here is the link to the Microsoft site. https://www.microsoft.com/en-us/search?q=skype+for+business 1. Download Skype for Business - https://www.microsoft.com/en-us/search?q=skype+for+business 2. At 5:27 on May 20th click on the link - https://meet.sharenj.org/stevenl/D2SJ2Z71# 3. Click on the 3rd choice. Try to join the meeting again You will go to a new screen. 4. Enter your name and then click on join as a "Guest". 5. You will now be in the meeting waiting room where you will be given access by NJSN as the meeting begins. 6. Once given access\, you will see the Board room and the document on a white board. 7. Turn on your microphone as well as your camera. 8. When in the meeting\, for your camera to be active\, you may have to click on a link that sits on your picture. You will then be visible and can fully participate.
UID:e.870.15495
SEQUENCE:3
DTSTAMP:20260419T192623Z
URL:https://business.suburbanchambers.org/events/details/creating-the-future-of-the-suburban-chamber-of-commerce-part-ii-15495
END:VEVENT

END:VCALENDAR
