BEGIN:VCALENDAR
VERSION:2.0
PRODID:-//ChamberMaster//Event Calendar 2.0//EN
METHOD:PUBLISH
X-PUBLISHED-TTL:P3D
REFRESH-INTERVAL:P3D
CALSCALE:GREGORIAN
BEGIN:VEVENT
DTSTART:20190325T211500Z
DTEND:20190325T230000Z
X-MICROSOFT-CDO-ALLDAYEVENT:FALSE
SUMMARY:Creating the Future of the Suburban Chamber of Commerce
DESCRIPTION:Doug Brown\, CEO of Paradigm Associates has been chosen to aid the Chamber in creating a new\, three year strategic plan.  As part of the process\, he is meeting with the Board and other community members individually and as a group\, and would like to meet with our membership in this first scheduled all-member planning session for input on the creation of the new 3 year strategic plan.
X-ALT-DESC;FMTTYPE=text/html:<span style="font-family:verdana\;"><span style="font-size:14.0pt\;">Doug Brown\, CEO of Paradigm Associates has been chosen to aid the Chamber in creating a new\, three year strategic plan.&nbsp\; As part of the process\, he is meeting with the Board and other community members individually and as a group\, and would like to meet with our membership in this first scheduled all-member planning session for input on the&nbsp\;</span><span style="font-size: 18.6667px\;">creation of the new 3 year strategic plan.&nbsp\;&nbsp\;</span></span>
LOCATION:The DeCorso Center 15 East Fourth St New Providence **PLEASE NOTE CHANGE IN VENUE**
UID:e.870.15395
SEQUENCE:3
DTSTAMP:20260420T043157Z
URL:https://business.suburbanchambers.org/events/details/creating-the-future-of-the-suburban-chamber-of-commerce-15395
END:VEVENT

END:VCALENDAR
