BEGIN:VCALENDAR
VERSION:2.0
PRODID:-//ChamberMaster//Event Calendar 2.0//EN
METHOD:PUBLISH
X-PUBLISHED-TTL:P3D
REFRESH-INTERVAL:P3D
CALSCALE:GREGORIAN
BEGIN:VEVENT
DTSTART:20181208T160000Z
DTEND:20181208T210000Z
X-MICROSOFT-CDO-ALLDAYEVENT:FALSE
SUMMARY:Cookie Walk Fundraiser
DESCRIPTION:Your $5.00 donation will provide you with your choice of delicious\, traditional\, homemade cookies in a decorative\, recyclable\, holiday-motif box. Proceeds to benefit the Christopher B. Cosgrove III\, United States Marine Corp Memorial Fund.
X-ALT-DESC;FMTTYPE=text/html:Your $5.00 donation will provide you with your choice of delicious\, traditional\, homemade cookies in a decorative\, recyclable\, holiday-motif box. Proceeds to benefit the Christopher B. Cosgrove III\, United States Marine Corp Memorial Fund.
LOCATION:American Legion Post 433 357 Elkwood Avenue New Providence\, NJ 07974
UID:e.870.14535
SEQUENCE:3
DTSTAMP:20260420T144806Z
URL:https://business.suburbanchambers.org/events/details/cookie-walk-fundraiser-12-08-2018-14535
END:VEVENT

END:VCALENDAR
