BEGIN:VCALENDAR
VERSION:2.0
PRODID:-//ChamberMaster//Event Calendar 2.0//EN
METHOD:PUBLISH
X-PUBLISHED-TTL:P3D
REFRESH-INTERVAL:P3D
CALSCALE:GREGORIAN
BEGIN:VEVENT
DTSTART:20190505T190000Z
DTEND:20190505T200000Z
X-MICROSOFT-CDO-ALLDAYEVENT:FALSE
SUMMARY:Concord Singers Concert
DESCRIPTION:The Concord Singers\, a women's community chorus\, will perform their spring concert\, Key\, under the direction of Anna Lenti.
X-ALT-DESC;FMTTYPE=text/html:The Concord Singers\, a women&rsquo\;s community chorus\, will perform their spring concert\, Key\, under the direction of Anna Lenti.
LOCATION:New Providence Memorial Library
UID:e.870.15414
SEQUENCE:3
DTSTAMP:20260419T191254Z
URL:https://business.suburbanchambers.org/events/details/concord-singers-concert-15414
END:VEVENT

END:VCALENDAR
