BEGIN:VCALENDAR
VERSION:2.0
PRODID:-//ChamberMaster//Event Calendar 2.0//EN
METHOD:PUBLISH
X-PUBLISHED-TTL:P3D
REFRESH-INTERVAL:P3D
CALSCALE:GREGORIAN
BEGIN:VEVENT
DTSTART:20181216T210000Z
DTEND:20181216T223000Z
X-MICROSOFT-CDO-ALLDAYEVENT:FALSE
SUMMARY:Community Messiah Sing sponsored by Calvary Choir\, Summit Chorale and Summit Symphony Orchestra
DESCRIPTION:All are invited to join the Calvary Choir and Summit Chorale in an old-fashioned community sing-a-long of Handel's most beloved Christmas choruses.  Several musicians from the Summit Symphony Orchestra will accompany the Choirs.  Bring your score if you have one.  A limited number are available on the  day.  Not a singer?  Attend and enjoy this beautiful seasonal program!
X-ALT-DESC;FMTTYPE=text/html:<p class="gmail-p1" style="margin:0in\;margin-bottom:.0001pt"><span style="font-size:14px\;"><span style="font-family:arial\;"><span class="gmail-s1"><span style="color: black\;">All are invited to join the Calvary Choir and Summit Chorale in an old-fashioned community sing-a-long of Handel&rsquo\;s most beloved Christmas choruses.</span></span><span class="gmail-apple-converted-space"><span style="color: black\;">&nbsp\; </span></span><span class="gmail-s1"><span style="color: black\;">Several musicians from the Summit Symphony Orchestra will accompany the Choirs.</span></span><span class="gmail-apple-converted-space"><span style="color: black\;">&nbsp\; </span></span><span class="gmail-s1"><span style="color: black\;">Bring your score if you have one.</span></span><span class="gmail-apple-converted-space"><span style="color: black\;">&nbsp\; </span></span><span class="gmail-s1"><span style="color: black\;">A limited number are available on the</span></span><span class="gmail-apple-converted-space"><span style="color: black\;">&nbsp\; </span></span><span class="gmail-s1"><span style="color: black\;">day.</span></span><span class="gmail-apple-converted-space"><span style="color: black\;">&nbsp\; </span></span><span class="gmail-s1"><span style="color: black\;">Not a singer?</span></span><span class="gmail-apple-converted-space"><span style="color: black\;">&nbsp\; </span></span><span class="gmail-s1"><span style="color: black\;">Attend and enjoy this beautiful seasonal program!</span></span><span class="gmail-apple-converted-space"><span style="color: black\;">&nbsp\;&nbsp\;</span></span></span></span><span style="font-size:8.5pt\;font-family:\n&quot\;Helvetica&quot\;\,&quot\;sans-serif&quot\;\;color:black"><o:p></o:p></span></p>\n
LOCATION:Calvary Church Summit\, 31 Woodland Ave.\, Summit.
UID:e.870.14740
SEQUENCE:3
DTSTAMP:20260420T191620Z
URL:https://business.suburbanchambers.org/events/details/community-messiah-sing-sponsored-by-calvary-choir-summit-chorale-and-summit-symphony-orchestra-14740
END:VEVENT

END:VCALENDAR
