BEGIN:VCALENDAR
VERSION:2.0
PRODID:-//ChamberMaster//Event Calendar 2.0//EN
METHOD:PUBLISH
X-PUBLISHED-TTL:P3D
REFRESH-INTERVAL:P3D
CALSCALE:GREGORIAN
BEGIN:VEVENT
DTSTART:20190507T200000Z
DTEND:20190507T210000Z
X-MICROSOFT-CDO-ALLDAYEVENT:FALSE
SUMMARY:Communication Workshop for People With Hearing Loss
DESCRIPTION:Do you wish you could communicate better with your hearing loss partner\, friend or loved one? Are you a person with hearing loss who wishes you could communicate better? This workshop given by Patt Dobbs\, author and President of the Hearing Loss Association of America will help.
X-ALT-DESC;FMTTYPE=text/html:Do you wish you could communicate better with your hearing loss partner\, friend or loved one? Are you a person with hearing loss who wishes you could communicate better? This workshop given by Patt Dobbs\, author and President of the Hearing Loss Association of America will help.&nbsp\;
LOCATION:SAGE Eldercare 290 Broad Street
UID:e.870.15457
SEQUENCE:3
DTSTAMP:20260419T191109Z
URL:https://business.suburbanchambers.org/events/details/communication-workshop-for-people-with-hearing-loss-15457
END:VEVENT

END:VCALENDAR
