BEGIN:VCALENDAR
VERSION:2.0
PRODID:-//ChamberMaster//Event Calendar 2.0//EN
METHOD:PUBLISH
X-PUBLISHED-TTL:P3D
REFRESH-INTERVAL:P3D
CALSCALE:GREGORIAN
BEGIN:VEVENT
DTSTART:20190301T000000Z
DTEND:20190301T020000Z
X-MICROSOFT-CDO-ALLDAYEVENT:FALSE
SUMMARY:Combatting Unconscious Bias and Creating an Upstander Culture in Your Community
DESCRIPTION:Featuring Katherin Nukk-Freeman\, Co-Founder and President of Shift HR Compliance Training and a passionate advocate for building a better workplace. This is a free event and is open to the community! Please call 908-273-7349 or email jlsofficemanager@gmail.com to RSVP.
X-ALT-DESC;FMTTYPE=text/html:Featuring Katherin Nukk-Freeman\, Co-Founder and President of Shift HR Compliance Training and a passionate advocate for building a better workplace. This is a free event and is open to the community! Please call 908-273-7349 or email jlsofficemanager@gmail.com to RSVP.
LOCATION:Summit Speech School 705 Central Ave. New Providence\, NJ
UID:e.870.15328
SEQUENCE:3
DTSTAMP:20260420T120053Z
URL:https://business.suburbanchambers.org/events/details/combatting-unconscious-bias-and-creating-an-upstander-culture-in-your-community-15328
END:VEVENT

END:VCALENDAR
