BEGIN:VCALENDAR
VERSION:2.0
PRODID:-//ChamberMaster//Event Calendar 2.0//EN
METHOD:PUBLISH
X-PUBLISHED-TTL:P3D
REFRESH-INTERVAL:P3D
CALSCALE:GREGORIAN
BEGIN:VEVENT
DTSTART:20190312T133000Z
DTEND:20190312T153000Z
X-MICROSOFT-CDO-ALLDAYEVENT:FALSE
SUMMARY:College Athletics -Then and Now
DESCRIPTION:Mr. Robert Beller\, Risk Management and Institutional Compliance Officer- Athletics at Rutgers University will speak about today's demand on men and women's college athletic programs versus the demands of decades ago. Mr. Beller was a member of Harvard's basketball team in the 1970s.  Guests are welcome.
X-ALT-DESC;FMTTYPE=text/html:Mr. Robert Beller\, Risk Management and Institutional Compliance Officer- Athletics at Rutgers University will speak about today&rsquo\;s demand on men and women&rsquo\;s college athletic programs versus the demands of decades ago. Mr. Beller was a member of Harvard&rsquo\;s basketball team in the 1970s.&nbsp\; Guests are welcome.
LOCATION:New Providence Municipal Building
UID:e.870.15276
SEQUENCE:3
DTSTAMP:20260420T080555Z
URL:https://business.suburbanchambers.org/events/details/college-athletics-then-and-now-15276
END:VEVENT

END:VCALENDAR
