BEGIN:VCALENDAR
VERSION:2.0
PRODID:-//ChamberMaster//Event Calendar 2.0//EN
METHOD:PUBLISH
X-PUBLISHED-TTL:P3D
REFRESH-INTERVAL:P3D
CALSCALE:GREGORIAN
BEGIN:VEVENT
DTSTART:20190402T230000Z
DTEND:20190403T000000Z
X-MICROSOFT-CDO-ALLDAYEVENT:FALSE
SUMMARY:College Admissions Essay Workshop
DESCRIPTION:Come learn from Joe Pickton\, New Providence resident\, parent\, Language Arts teacher\, and tutor. Students will learn tips for choosing essay topics\, how to make their essay stand out\, and basic strategies for writing a cohesive\, representative piece that will impress college admissions reviewers. Register for this event on NP Community Pass.
X-ALT-DESC;FMTTYPE=text/html:Come learn from Joe Pickton\, New Providence resident\, parent\, Language Arts teacher\, and tutor. Students will learn tips for choosing essay topics\, how to make their essay stand out\, and basic strategies for writing a cohesive\, representative piece that will impress college admissions reviewers. Register for this event on NP Community Pass.
LOCATION:New Providence Memorial Library 377 Elkwood Ave New Providence\, NJ 07974
UID:e.870.15357
SEQUENCE:3
DTSTAMP:20260419T231334Z
URL:https://business.suburbanchambers.org/events/details/college-admissions-essay-workshop-15357
END:VEVENT

END:VCALENDAR
