BEGIN:VCALENDAR
VERSION:2.0
PRODID:-//ChamberMaster//Event Calendar 2.0//EN
METHOD:PUBLISH
X-PUBLISHED-TTL:P3D
REFRESH-INTERVAL:P3D
CALSCALE:GREGORIAN
BEGIN:VEVENT
DTSTART:20190521T133000Z
DTEND:20190521T153000Z
X-MICROSOFT-CDO-ALLDAYEVENT:FALSE
SUMMARY:Climing Mt. Everest
DESCRIPTION:After many months of training and conditioning\, Dan Stringham and three companions undertook and survived one of the most dangerous and physically demanding challenges to mankind\; reaching the summit of Mt. Everest in Nepal. Hear Dan tell his story\, including the life lessons this experience taught him. The talk will take place in the New Providence Municipal Building starting at 9:30 am until 11:30 am. Guests are welcome.
X-ALT-DESC;FMTTYPE=text/html:After many months of training and conditioning\, Dan Stringham and three companions undertook and survived one of the most dangerous and physically demanding challenges to mankind\; reaching the summit of Mt. Everest in Nepal. Hear Dan tell his story\, including the life lessons this experience taught him. The talk will take place in the New Providence Municipal Building starting at 9:30 am until 11:30 am. Guests are welcome.
LOCATION:New Providence Municipal Building
UID:e.870.15403
SEQUENCE:3
DTSTAMP:20260419T190202Z
URL:https://business.suburbanchambers.org/events/details/climing-mt-everest-15403
END:VEVENT

END:VCALENDAR
