BEGIN:VCALENDAR
VERSION:2.0
PRODID:-//ChamberMaster//Event Calendar 2.0//EN
METHOD:PUBLISH
X-PUBLISHED-TTL:P3D
REFRESH-INTERVAL:P3D
CALSCALE:GREGORIAN
BEGIN:VEVENT
DTSTART:20181218T150000Z
DTEND:20181218T163000Z
X-MICROSOFT-CDO-ALLDAYEVENT:FALSE
SUMMARY:Churchill from another view
DESCRIPTION:Foster Osborne\, Old Guard member and history buff\, will talk about his views of Churchill's overall performance as a leader in Britain. Foster opines that Churchill was the right man at the right time and place for wartime Britain\, but overall his performance was poor. Foster will discuss his treatment of India\, his failure to ever to win a popular vote\, his responsibility for the sinking of the Lusitania\, and his secret deal with Stalin dividing up Eastern Europe after the war.
X-ALT-DESC;FMTTYPE=text/html:Foster Osborne\, Old Guard member and history buff\, will talk about his views of Churchill&rsquo\;s overall performance as a leader in Britain. Foster opines that Churchill was the right man at the right time and place for wartime Britain\, but overall his performance was poor. Foster will discuss his treatment of India\, his failure to ever to win a popular vote\, his responsibility for the sinking of the Lusitania\, and his secret deal with Stalin dividing up Eastern Europe after the war.
LOCATION:New Providence Boro Hall
UID:e.870.14622
SEQUENCE:3
DTSTAMP:20260420T150737Z
URL:https://business.suburbanchambers.org/events/details/churchill-from-another-view-14622
END:VEVENT

END:VCALENDAR
