BEGIN:VCALENDAR
VERSION:2.0
PRODID:-//ChamberMaster//Event Calendar 2.0//EN
METHOD:PUBLISH
X-PUBLISHED-TTL:P3D
REFRESH-INTERVAL:P3D
CALSCALE:GREGORIAN
BEGIN:VEVENT
DTSTART:20181225T020000Z
DTEND:20181225T030000Z
X-MICROSOFT-CDO-ALLDAYEVENT:FALSE
SUMMARY:Christmas Eve Service
DESCRIPTION:Join us in the Sanctuary for a traditional worship service\, including the Lord's Supper\, ending in candlelight.
X-ALT-DESC;FMTTYPE=text/html:Join us in the Sanctuary for a traditional worship service\, including the Lord&rsquo\;s Supper\, ending in candlelight.
LOCATION:The United Methodist Church of Summit 17 Kent Place Boulevard Summit\, NJ 07901
UID:e.870.14770
SEQUENCE:3
DTSTAMP:20260420T145327Z
URL:https://business.suburbanchambers.org/events/details/christmas-eve-service-12-24-2018-14770
END:VEVENT

END:VCALENDAR
