BEGIN:VCALENDAR
VERSION:2.0
PRODID:-//ChamberMaster//Event Calendar 2.0//EN
METHOD:PUBLISH
X-PUBLISHED-TTL:P3D
REFRESH-INTERVAL:P3D
CALSCALE:GREGORIAN
BEGIN:VEVENT
DTSTART:20181216T200000Z
DTEND:20181216T210000Z
X-MICROSOFT-CDO-ALLDAYEVENT:FALSE
SUMMARY:Christmas Concert
DESCRIPTION:Join us at the United Methodist Church of Summit for an afternoon of joyful music! Our concert will feature our Children's and Adult Choirs\, as well as our Bell\, Contemporary Ensemble and professional instrumentalists. Enjoy the joyous sounds of Christmas in a beautiful sacred space. Everyone is invited to gather for a reception in the Social Hall following the program.
X-ALT-DESC;FMTTYPE=text/html:Join us at the United Methodist Church of Summit for an afternoon of joyful music! Our concert will feature our Children's and Adult Choirs\, as well as our Bell\, Contemporary Ensemble and professional instrumentalists. Enjoy the joyous sounds of Christmas in a beautiful sacred space. Everyone is invited to gather for a reception in the Social Hall following the program.
LOCATION:The United Methodist Church of Summit 17 Kent Place Boulevard Summit\, NJ 07901
UID:e.870.14809
SEQUENCE:3
DTSTAMP:20260420T145056Z
URL:https://business.suburbanchambers.org/events/details/christmas-concert-12-16-2018-14809
END:VEVENT

END:VCALENDAR
