BEGIN:VCALENDAR
VERSION:2.0
PRODID:-//ChamberMaster//Event Calendar 2.0//EN
METHOD:PUBLISH
X-PUBLISHED-TTL:P3D
REFRESH-INTERVAL:P3D
CALSCALE:GREGORIAN
BEGIN:VEVENT
DTSTART:20181223T163000Z
DTEND:20181223T170000Z
X-MICROSOFT-CDO-ALLDAYEVENT:FALSE
SUMMARY:Christmas Caroling
DESCRIPTION:Get into the holiday spirit and join the United Methodist Church of Summit in singing traditional carols and holiday favorites outside the church. Afterwards\, warm-up with hot chocolate\, hot cider and cookies.
X-ALT-DESC;FMTTYPE=text/html:Get into the holiday spirit and join the United Methodist Church of Summit in singing traditional carols and holiday favorites outside the church. Afterwards\, warm-up with hot chocolate\, hot cider and cookies.
LOCATION:The United Methodist Church of Summit 17 Kent Place Boulevard Summit\, NJ 07901
UID:e.870.14768
SEQUENCE:3
DTSTAMP:20260420T150801Z
URL:https://business.suburbanchambers.org/events/details/christmas-caroling-14768
END:VEVENT

END:VCALENDAR
