BEGIN:VCALENDAR
VERSION:2.0
PRODID:-//ChamberMaster//Event Calendar 2.0//EN
METHOD:PUBLISH
X-PUBLISHED-TTL:P3D
REFRESH-INTERVAL:P3D
CALSCALE:GREGORIAN
BEGIN:VEVENT
DTSTART:20181208T003000Z
DTEND:20181208T033000Z
X-MICROSOFT-CDO-ALLDAYEVENT:FALSE
SUMMARY:Chorus Song Night at the Minstrel
DESCRIPTION:Lots of songs with easy choruses to sing along with! Join Ken Schatz\, Carrie Cantor\, Jerry Krantman and Mike Agranoff for a fun evening. Free parking\; wheelchair accessible.
X-ALT-DESC;FMTTYPE=text/html:Lots of songs with easy choruses to sing along with! Join Ken Schatz\, Carrie Cantor\, Jerry Krantman and Mike Agranoff for a fun evening. Free parking\; wheelchair accessible.
LOCATION:Morristown Unitarian Fellowship 21 Normandy Heights Road Morristown\, NJ 07960
UID:e.870.14720
SEQUENCE:3
DTSTAMP:20260420T153027Z
URL:https://business.suburbanchambers.org/events/details/chorus-song-night-at-the-minstrel-12-07-2018-14720
END:VEVENT

END:VCALENDAR
