BEGIN:VCALENDAR
VERSION:2.0
PRODID:-//ChamberMaster//Event Calendar 2.0//EN
METHOD:PUBLISH
X-PUBLISHED-TTL:P3D
REFRESH-INTERVAL:P3D
CALSCALE:GREGORIAN
BEGIN:VEVENT
DTSTART:20190204T200000Z
DTEND:20190204T220000Z
X-MICROSOFT-CDO-ALLDAYEVENT:FALSE
SUMMARY:Chinese New Year Paper Lantern Craft
DESCRIPTION:Come celebrate the Chinese New Year by making paper lanterns with actual mini LED lights and circuit tape. Create your own designs to take home. Open to students in grades 5-12.
X-ALT-DESC;FMTTYPE=text/html:Come celebrate the Chinese New Year by making paper lanterns with actual mini LED lights and circuit tape. Create your own designs to take home. Open to students in grades 5-12.
LOCATION:New Providence Memorial Library
UID:e.870.15191
SEQUENCE:3
DTSTAMP:20260420T081010Z
URL:https://business.suburbanchambers.org/events/details/chinese-new-year-paper-lantern-craft-02-04-2019-15191
END:VEVENT

END:VCALENDAR
