BEGIN:VCALENDAR
VERSION:2.0
PRODID:-//ChamberMaster//Event Calendar 2.0//EN
METHOD:PUBLISH
X-PUBLISHED-TTL:P3D
REFRESH-INTERVAL:P3D
CALSCALE:GREGORIAN
BEGIN:VEVENT
DTSTART:20190405T233000Z
DTEND:20190406T023000Z
X-MICROSOFT-CDO-ALLDAYEVENT:FALSE
SUMMARY:Cheryl Wheeler at the Minstrel
DESCRIPTION:David Stoddard opens. Free parking\; wheelchair accessible.
X-ALT-DESC;FMTTYPE=text/html:David Stoddard opens. Free parking\; wheelchair accessible.
LOCATION:Morristown Unitarian Fellowship 21 Normandy Heights Road Morristown\, NJ 07960
UID:e.870.15370
SEQUENCE:3
DTSTAMP:20260420T035740Z
URL:https://business.suburbanchambers.org/events/details/cheryl-wheeler-at-the-minstrel-15370
END:VEVENT

END:VCALENDAR
