BEGIN:VCALENDAR
VERSION:2.0
PRODID:-//ChamberMaster//Event Calendar 2.0//EN
METHOD:PUBLISH
X-PUBLISHED-TTL:P3D
REFRESH-INTERVAL:P3D
CALSCALE:GREGORIAN
BEGIN:VEVENT
DTSTART:20220914T140000Z
DTEND:20220914T210000Z
X-MICROSOFT-CDO-ALLDAYEVENT:FALSE
SUMMARY:Charity Gift Basket Raffle
DESCRIPTION:Visit Brandywine Living at Summit on Tuesday\, September 13th\, Wednesday September 14th or Thursday September 15th. Enjoy refreshments and pick up a free gift. Call or email Christy Esandrio at 908-522-8852\, Cesandrio@Brandycare.com to reserve a time.\n\nChance to win one or more great raffle prizes. Earn one raffle ticket for stopping in. Additional raffle tickets available for purchase. You choose which awesome baskets\, filled with local goods and gift cards\, that you want to enter to win. Prize tickets will be pulled Thursday\, September 15th at 5:00\, winner need not be present.\n\nMoney collected from the raffle ticket sales will be donated to two deserving charities . . . Tunnels to Towers Foundation and The Walk to End Alzheimer's.
X-ALT-DESC;FMTTYPE=text/html:<p><span style="background-color:transparent\; color:rgb(0\, 0\, 0)\; font-family:arial\; font-size:11pt">Visit Brandywine Living at Summit on Tuesday\,&nbsp\;</span><span style="background-color:transparent\; color:rgb(0\, 0\, 0)\; font-family:arial\; font-size:11pt">September 13th\, Wednesday September 14th or Thursday September 15th. Enjoy&nbsp\;</span><span style="background-color:transparent\; color:rgb(0\, 0\, 0)\; font-family:arial\; font-size:11pt">refreshments and pick up a free gift. Call or email Christy Esandrio at 908-522-8852\,&nbsp\;</span><span style="background-color:transparent\; color:rgb(0\, 0\, 0)\; font-family:arial\; font-size:11pt">Cesandrio@Brandycare.com to reserve a time.</span></p>\n\n<p><span style="background-color:transparent\; color:rgb(0\, 0\, 0)\; font-family:arial\; font-size:11pt">Chance to win one or more great raffle prizes. Earn one raffle ticket for stopping in. Additional raffle tickets available for purchase. You choose which awesome baskets\, filled with local goods and gift cards\, that you want to enter to win. Prize tickets will be pulled Thursday\, September 15th at 5:00\, winner need not be present.</span></p>\n\n<p><span style="background-color:transparent\; color:rgb(0\, 0\, 0)\; font-family:arial\; font-size:11pt">Money collected from the raffle ticket sales will be donated to two deserving charities . . . Tunnels to Towers Foundation and The Walk to End Alzheimer&rsquo\;s.</span></p>\n\n<div>&nbsp\;</div>\n
LOCATION:Brandywine Living at Summit 41 Springfield Avenue Summit NJ 07901
UID:e.870.17631
SEQUENCE:3
DTSTAMP:20260422T092657Z
URL:https://business.suburbanchambers.org/events/details/charity-gift-basket-raffle-09-14-2022-17631
END:VEVENT

END:VCALENDAR
