BEGIN:VCALENDAR
VERSION:2.0
PRODID:-//ChamberMaster//Event Calendar 2.0//EN
METHOD:PUBLISH
X-PUBLISHED-TTL:P3D
REFRESH-INTERVAL:P3D
CALSCALE:GREGORIAN
BEGIN:VEVENT
DTSTART:20181011T140000Z
DTEND:20181011T160000Z
X-MICROSOFT-CDO-ALLDAYEVENT:FALSE
SUMMARY:Chamber Music Recital
DESCRIPTION:The Suburban Music Study Club of New Jersey will present Yang-Hee Song and Trent Johnson on piano four-hands\, Joanna Clarke\, soprano with Vincent Clarke\, piano and Angela Notari\, soprano in a free morning recital at the Madison Library Chase Room. All are invited for a wonderful morning of classical music!
X-ALT-DESC;FMTTYPE=text/html:The Suburban Music Study Club of New Jersey will present Yang-Hee Song and Trent Johnson on piano four-hands\, Joanna Clarke\, soprano with Vincent Clarke\, piano and Angela Notari\, soprano in a free morning recital at the Madison Library Chase Room. All are invited for a wonderful morning of classical music!
LOCATION:Madison Library Chase Room\, 39 Keep St\, Madison\, NJ 07940
UID:e.870.14393
SEQUENCE:3
DTSTAMP:20260420T220455Z
URL:https://business.suburbanchambers.org/events/details/chamber-music-recital-14393
END:VEVENT

END:VCALENDAR
