BEGIN:VCALENDAR
VERSION:2.0
PRODID:-//ChamberMaster//Event Calendar 2.0//EN
METHOD:PUBLISH
X-PUBLISHED-TTL:P3D
REFRESH-INTERVAL:P3D
CALSCALE:GREGORIAN
BEGIN:VEVENT
DTSTART:20230417T210000Z
DTEND:20230417T221500Z
X-MICROSOFT-CDO-ALLDAYEVENT:FALSE
SUMMARY:Chamber Board Meeting
DESCRIPTION:Topic: Chamber Board \n\nTime: Apr 17\, 2023 05:00 PM Eastern Time (US and Canada)\n\n\n\nJoin Zoom Meeting\n\nhttps://us02web.zoom.us/j/89343573064?pwd=UUQzWUtsYmkwVHZDVk16dVpOU1VKdz09\n\n\n\nMeeting ID: 893 4357 3064\n\nPasscode: 199666\n\nOne tap mobile\n\n+13092053325\,\,89343573064#\,\,\,\,*199666# US\n\n+13126266799\,\,89343573064#\,\,\,\,*199666# US (Chicago)\n\n\n\nDial by your location\n\n        +1 309 205 3325 US\n\n        +1 312 626 6799 US (Chicago)\n\n        +1 646 931 3860 US\n\n        +1 929 205 6099 US (New York)\n\n        +1 301 715 8592 US (Washington DC)\n\n        +1 305 224 1968 US\n\n        +1 346 248 7799 US (Houston)\n\n        +1 360 209 5623 US\n\n        +1 386 347 5053 US\n\n        +1 507 473 4847 US\n\n        +1 564 217 2000 US\n\n        +1 669 444 9171 US\n\n        +1 669 900 6833 US (San Jose)\n\n        +1 689 278 1000 US\n\n        +1 719 359 4580 US\n\n        +1 253 205 0468 US\n\n        +1 253 215 8782 US (Tacoma)\n\nMeeting ID: 893 4357 3064\n\nPasscode: 199666\n\nFind your local number: https://us02web.zoom.us/u/kcRZ8l6yAc
X-ALT-DESC;FMTTYPE=text/html:Topic: Chamber Board&nbsp\;<br />\nTime: Apr 17\, 2023 05:00 PM Eastern Time (US and Canada)<br />\n<br />\nJoin Zoom Meeting<br />\nhttps://us02web.zoom.us/j/89343573064?pwd=UUQzWUtsYmkwVHZDVk16dVpOU1VKdz09<br />\n<br />\nMeeting ID: 893 4357 3064<br />\nPasscode: 199666<br />\nOne tap mobile<br />\n+13092053325\,\,89343573064#\,\,\,\,*199666# US<br />\n+13126266799\,\,89343573064#\,\,\,\,*199666# US (Chicago)<br />\n<br />\nDial by your location<br />\n&nbsp\; &nbsp\; &nbsp\; &nbsp\; +1 309 205 3325 US<br />\n&nbsp\; &nbsp\; &nbsp\; &nbsp\; +1 312 626 6799 US (Chicago)<br />\n&nbsp\; &nbsp\; &nbsp\; &nbsp\; +1 646 931 3860 US<br />\n&nbsp\; &nbsp\; &nbsp\; &nbsp\; +1 929 205 6099 US (New York)<br />\n&nbsp\; &nbsp\; &nbsp\; &nbsp\; +1 301 715 8592 US (Washington DC)<br />\n&nbsp\; &nbsp\; &nbsp\; &nbsp\; +1 305 224 1968 US<br />\n&nbsp\; &nbsp\; &nbsp\; &nbsp\; +1 346 248 7799 US (Houston)<br />\n&nbsp\; &nbsp\; &nbsp\; &nbsp\; +1 360 209 5623 US<br />\n&nbsp\; &nbsp\; &nbsp\; &nbsp\; +1 386 347 5053 US<br />\n&nbsp\; &nbsp\; &nbsp\; &nbsp\; +1 507 473 4847 US<br />\n&nbsp\; &nbsp\; &nbsp\; &nbsp\; +1 564 217 2000 US<br />\n&nbsp\; &nbsp\; &nbsp\; &nbsp\; +1 669 444 9171 US<br />\n&nbsp\; &nbsp\; &nbsp\; &nbsp\; +1 669 900 6833 US (San Jose)<br />\n&nbsp\; &nbsp\; &nbsp\; &nbsp\; +1 689 278 1000 US<br />\n&nbsp\; &nbsp\; &nbsp\; &nbsp\; +1 719 359 4580 US<br />\n&nbsp\; &nbsp\; &nbsp\; &nbsp\; +1 253 205 0468 US<br />\n&nbsp\; &nbsp\; &nbsp\; &nbsp\; +1 253 215 8782 US (Tacoma)<br />\nMeeting ID: 893 4357 3064<br />\nPasscode: 199666<br />\nFind your local number: https://us02web.zoom.us/u/kcRZ8l6yAc
LOCATION:
UID:e.870.18375
SEQUENCE:3
DTSTAMP:20260422T155045Z
URL:https://business.suburbanchambers.org/events/details/chamber-board-meeting-18375
END:VEVENT

END:VCALENDAR
