BEGIN:VCALENDAR
VERSION:2.0
PRODID:-//ChamberMaster//Event Calendar 2.0//EN
METHOD:PUBLISH
X-PUBLISHED-TTL:P3D
REFRESH-INTERVAL:P3D
CALSCALE:GREGORIAN
BEGIN:VEVENT
DTSTART:20230123T220000Z
DTEND:20230123T231500Z
X-MICROSOFT-CDO-ALLDAYEVENT:FALSE
SUMMARY:Chamber Board Meeting
DESCRIPTION:Chamber of Commerce Board Meeting \n\n5:00 pm --- On Zoom
X-ALT-DESC;FMTTYPE=text/html:Chamber of Commerce Board Meeting&nbsp\;<br />\n5:00 pm --- On Zoom&nbsp\;
LOCATION:Topic: Chamber of Commerce Board Meeting Time: Jan 23\, 2023 05:00 PM Eastern Time (US and Canada) Join Zoom Meeting https://us02web.zoom.us/j/85916060690?pwd=cWlUVXpGbGY4QklPUGJBY2dzM2w0dz09 Meeting ID: 859 1606 0690 Passcode: 853023 One tap mobile +16469313860\,\,85916060690#\,\,\,\,*853023# US +19292056099\,\,85916060690#\,\,\,\,*853023# US (New York) Dial by your location +1 646 931 3860 US +1 929 205 6099 US (New York) +1 301 715 8592 US (Washington DC) +1 305 224 1968 US +1 309 205 3325 US +1 312 626 6799 US (Chicago) +1 346 248 7799 US (Houston) +1 360 209 5623 US +1 386 347 5053 US +1 507 473 4847 US +1 564 217 2000 US +1 669 444 9171 US +1 669 900 6833 US (San Jose) +1 689 278 1000 US +1 719 359 4580 US +1 253 205 0468 US +1 253 215 8782 US (Tacoma) Meeting ID: 859 1606 0690 Passcode: 853023 Find your local number: https://us02web.zoom.us/u/kcAYVwkP2W
UID:e.870.18315
SEQUENCE:3
DTSTAMP:20260421T192240Z
URL:https://business.suburbanchambers.org/events/details/chamber-board-meeting-18315
END:VEVENT

END:VCALENDAR
