BEGIN:VCALENDAR
VERSION:2.0
PRODID:-//ChamberMaster//Event Calendar 2.0//EN
METHOD:PUBLISH
X-PUBLISHED-TTL:P3D
REFRESH-INTERVAL:P3D
CALSCALE:GREGORIAN
BEGIN:VEVENT
DTSTART:20220919T210000Z
DTEND:20220919T221500Z
X-MICROSOFT-CDO-ALLDAYEVENT:FALSE
SUMMARY:Chamber Board Meeting
DESCRIPTION:Chamber Board meeting with special guest speaker Tom Bracken\, President of the New Jersey State Chamber of Commerce.  \n\n\n\nThe pandemic has created some major issues for New Jersey and the business community.  Mr. Bracken has asked for the opportunity to talk to our board about the issues and the need for grass roots help in addressing them.
X-ALT-DESC;FMTTYPE=text/html:<span style="font-size:14px\;">Chamber Board meeting with special guest speaker Tom Bracken\, President of the New Jersey State Chamber of Commerce.&nbsp\;&nbsp\;</span><br />\n<br />\nThe pandemic has created some major issues for New Jersey and the business community.&nbsp\; Mr. Bracken has asked for the opportunity to talk to our board about the issues and the need for grass roots help in addressing them.&nbsp\;&nbsp\;
LOCATION:Topic: Chamber Board Meeting Time: Sep 19\, 2022 05:00 PM Eastern Time (US and Canada) Join Zoom Meeting https://us02web.zoom.us/j/87656041064?pwd=YVR6TEJXclBnRDdLZkFLUjlhVzF5Zz09 Meeting ID: 876 5604 1064 Passcode: 607104 One tap mobile +13092053325\,\,87656041064#\,\,\,\,*607104# US +13126266799\,\,87656041064#\,\,\,\,*607104# US (Chicago) Dial by your location +1 309 205 3325 US +1 312 626 6799 US (Chicago) +1 646 931 3860 US +1 929 205 6099 US (New York) +1 301 715 8592 US (Washington DC) +1 564 217 2000 US +1 669 444 9171 US +1 669 900 6833 US (San Jose) +1 719 359 4580 US +1 253 215 8782 US (Tacoma) +1 346 248 7799 US (Houston) +1 386 347 5053 US Meeting ID: 876 5604 1064 Passcode: 607104 Find your local number: https://us02web.zoom.us/u/kcdngXEhs
UID:e.870.17633
SEQUENCE:3
DTSTAMP:20260419T151413Z
URL:https://business.suburbanchambers.org/events/details/chamber-board-meeting-17633
END:VEVENT

END:VCALENDAR
