BEGIN:VCALENDAR
VERSION:2.0
PRODID:-//ChamberMaster//Event Calendar 2.0//EN
METHOD:PUBLISH
X-PUBLISHED-TTL:P3D
REFRESH-INTERVAL:P3D
CALSCALE:GREGORIAN
BEGIN:VEVENT
DTSTART:20220815T210000Z
DTEND:20220815T221500Z
X-MICROSOFT-CDO-ALLDAYEVENT:FALSE
SUMMARY:Chamber Board Meeting
DESCRIPTION:The August Chamber of Commerce Board Meeting is scheduled for Monday\, August 15.  Details below.
X-ALT-DESC;FMTTYPE=text/html:The August Chamber of Commerce Board Meeting is scheduled for Monday\, August 15.&nbsp\; Details below.&nbsp\;&nbsp\;
LOCATION:Topic: Chamber Board Meeting Time: Aug 15\, 2022 05:00 PM Eastern Time (US and Canada) Join Zoom Meeting https://us02web.zoom.us/j/82932380482?pwd=OWhzdWZVaXBKaVZEZGJFWkc5N1JxZz09 Meeting ID: 829 3238 0482 Passcode: 591415 One tap mobile +16469313860\,\,82932380482#\,\,\,\,*591415# US +19292056099\,\,82932380482#\,\,\,\,*591415# US (New York) Dial by your location +1 646 931 3860 US +1 929 205 6099 US (New York) +1 301 715 8592 US (Washington DC) +1 309 205 3325 US +1 312 626 6799 US (Chicago) +1 253 215 8782 US (Tacoma) +1 346 248 7799 US (Houston) +1 386 347 5053 US +1 564 217 2000 US +1 669 444 9171 US +1 669 900 6833 US (San Jose) +1 719 359 4580 US Meeting ID: 829 3238 0482 Passcode: 591415 Find your local number: https://us02web.zoom.us/u/k3BlSkmEB
UID:e.870.17629
SEQUENCE:3
DTSTAMP:20260422T045511Z
URL:https://business.suburbanchambers.org/events/details/chamber-board-meeting-17629
END:VEVENT

END:VCALENDAR
