BEGIN:VCALENDAR
VERSION:2.0
PRODID:-//ChamberMaster//Event Calendar 2.0//EN
METHOD:PUBLISH
X-PUBLISHED-TTL:P3D
REFRESH-INTERVAL:P3D
CALSCALE:GREGORIAN
BEGIN:VEVENT
DTSTART:20220718T210000Z
DTEND:20220718T221500Z
X-MICROSOFT-CDO-ALLDAYEVENT:FALSE
SUMMARY:Chamber Board Meeting
DESCRIPTION:Chamber Board Meeting on Zoom
X-ALT-DESC;FMTTYPE=text/html:Chamber Board Meeting on Zoom&nbsp\;
LOCATION:Topic: Chamber Board Meeting Time: Jul 18\, 2022 05:00 PM Eastern Time (US and Canada) Join Zoom Meeting https://us02web.zoom.us/j/81798847343?pwd=eTNiNzhyZmg3UjlFYlhFNnFIN1l5dz09 Meeting ID: 817 9884 7343 Passcode: 627519 One tap mobile +13126266799\,\,81798847343#\,\,\,\,*627519# US (Chicago) +16469313860\,\,81798847343#\,\,\,\,*627519# US Dial by your location +1 312 626 6799 US (Chicago) +1 646 931 3860 US +1 929 205 6099 US (New York) +1 301 715 8592 US (Washington DC) +1 346 248 7799 US (Houston) +1 669 444 9171 US +1 669 900 6833 US (San Jose) +1 253 215 8782 US (Tacoma) Meeting ID: 817 9884 7343 Passcode: 627519 Find your local number: https://us02web.zoom.us/u/kncvA2ziV
UID:e.870.17587
SEQUENCE:3
DTSTAMP:20260422T153553Z
URL:https://business.suburbanchambers.org/events/details/chamber-board-meeting-17587
END:VEVENT

END:VCALENDAR
