BEGIN:VCALENDAR
VERSION:2.0
PRODID:-//ChamberMaster//Event Calendar 2.0//EN
METHOD:PUBLISH
X-PUBLISHED-TTL:P3D
REFRESH-INTERVAL:P3D
CALSCALE:GREGORIAN
BEGIN:VEVENT
DTSTART:20211018T210000Z
DTEND:20211018T221500Z
X-MICROSOFT-CDO-ALLDAYEVENT:FALSE
SUMMARY:Chamber Board Meeting
DESCRIPTION:Fellow Board Members:  Our October monthly board meeting will be LIVE on Monday\, October 18!  Come to the Large Conference room in Summit's City Hall at 5 pm.  Pls rsvp to Karen Hadley  khadley@suburbanchambers.org.\n\n\n\nDue to some board concerns we are making a zoom option available.   Please see below.   \n\n\n\nor click the registration link below     \n\n \n\nDavid Dietze
X-ALT-DESC;FMTTYPE=text/html:<span style="font-family:arial\,sans-serif\;"><span style="font-size:16.0pt\;">Fellow Board Members:&nbsp\; Our October monthly board meeting will be LIVE on Monday\, October 18!&nbsp\; Come to the Large Conference room in Summit&rsquo\;s City Hall at 5 pm.&nbsp\; Pls rsvp to Karen Hadley &nbsp\;<a href="mailto:khadley@suburbanchambers.org"><span style="color:windowtext\;">khadley@suburbanchambers.org</span></a>.<br />\n<br />\nDue to some board concerns we are making a zoom option available.&nbsp\; &nbsp\;Please see below.&nbsp\; &nbsp\;<br />\n<br />\nor click the registration link below&nbsp\;</span></span>&nbsp\;&nbsp\;&nbsp\;&nbsp\;<br />\n&nbsp\;<br />\n<span style="font-family:arial\,sans-serif\;"><span style="font-size:16.0pt\;">David Dietze</span></span>
LOCATION:Summit City Hall 512 Springfield Avenue Summit\, NJ
UID:e.870.17473
SEQUENCE:3
DTSTAMP:20260425T190721Z
URL:https://business.suburbanchambers.org/events/details/chamber-board-meeting-17473
END:VEVENT

END:VCALENDAR
