BEGIN:VCALENDAR
VERSION:2.0
PRODID:-//ChamberMaster//Event Calendar 2.0//EN
METHOD:PUBLISH
X-PUBLISHED-TTL:P3D
REFRESH-INTERVAL:P3D
CALSCALE:GREGORIAN
BEGIN:VEVENT
DTSTART:20190303T200000Z
DTEND:20190303T220000Z
X-MICROSOFT-CDO-ALLDAYEVENT:FALSE
SUMMARY:Celtic Music Concert
DESCRIPTION:Ian Gallagher will sing Irish folk music in this free performance sponsored by the Friends of the NPML.
X-ALT-DESC;FMTTYPE=text/html:Ian Gallagher will sing Irish folk music in this free performance sponsored by the Friends of the NPML.
LOCATION:New Providence Memorial Library
UID:e.870.15306
SEQUENCE:3
DTSTAMP:20260420T074520Z
URL:https://business.suburbanchambers.org/events/details/celtic-music-concert-15306
END:VEVENT

END:VCALENDAR
