BEGIN:VCALENDAR
VERSION:2.0
PRODID:-//ChamberMaster//Event Calendar 2.0//EN
METHOD:PUBLISH
X-PUBLISHED-TTL:P3D
REFRESH-INTERVAL:P3D
CALSCALE:GREGORIAN
BEGIN:VEVENT
DTSTART:20180517T220000Z
DTEND:20180517T233000Z
X-MICROSOFT-CDO-ALLDAYEVENT:FALSE
SUMMARY:Celebrate Nature Yoga and Meditation at Reeves-Reed Arboretum
DESCRIPTION:Gather your friends together for a rejuvenating yoga and meditation session on the beautiful and peaceful grounds of Reeves-Reed Arboretum. Claire Diab\, of the American Yoga Academy Studio\, will demonstrate mantra meditation\, breathing techniques\, chakra toning\, and the six directions. These powerful breathing techniques help to purify and cleanse your lungs\, which in turn purifies and nourishes every single cell in your body. And why not learn from the best? According to author and alternative medicine advocate Deepak Chopra\, "Claire Diab's programs will help you develop mind body coordination and ease you in the experience of yoga in the most appropriate way." A world renowned yoga therapist\, fitness specialist\, health and wellness expert and inspirational speaker\, Ms. Diab has collaborated with some of the most recognized names in the health and wellness industry for the last three decades. $20 donation per person. CASH ONLY. Payment will be collected at the workshop as the event is weather-dependent. Please check our website for weather updates. Registration is not required. A prior session of this event is also available on Thursday\, April 19.
X-ALT-DESC;FMTTYPE=text/html:Gather your friends together for a rejuvenating yoga and meditation session on the beautiful and peaceful grounds of Reeves-Reed Arboretum. Claire Diab\, of the American Yoga Academy Studio\, will demonstrate mantra meditation\, breathing techniques\, chakra toning\, and the six directions. These powerful breathing techniques help to purify and cleanse your lungs\, which in turn purifies and nourishes every single cell in your body. And why not learn from the best? According to author and alternative medicine advocate Deepak Chopra\, &quot\;Claire Diab&#39\;s programs will help you develop mind body coordination and ease you in the experience of yoga in the most appropriate way.&quot\; A world renowned yoga therapist\, fitness specialist\, health and wellness expert and inspirational speaker\, Ms. Diab has collaborated with some of the most recognized names in the health and wellness industry for the last three decades. $20 donation per person. CASH ONLY. Payment will be collected at the workshop as the event is weather-dependent. Please check our website for weather updates. Registration is not required. A prior session of this event is also available on Thursday\, April 19.&nbsp\;
LOCATION:Reeves-Reed Arboretum 165 Hobart Ave. Summit\, NJ 07901
UID:e.870.11825
SEQUENCE:3
DTSTAMP:20260421T134515Z
URL:https://business.suburbanchambers.org/events/details/celebrate-nature-yoga-and-meditation-at-reeves-reed-arboretum-11825
END:VEVENT

END:VCALENDAR
