BEGIN:VCALENDAR
VERSION:2.0
PRODID:-//ChamberMaster//Event Calendar 2.0//EN
METHOD:PUBLISH
X-PUBLISHED-TTL:P3D
REFRESH-INTERVAL:P3D
CALSCALE:GREGORIAN
BEGIN:VEVENT
DTSTART:20181021T150000Z
DTEND:20181021T200000Z
X-MICROSOFT-CDO-ALLDAYEVENT:FALSE
SUMMARY:Celebrate Fall 2018 at Reeves-Reed Arboretum
DESCRIPTION:SAVE THE DATE! Games\, crafts\, music\, face painting\, and of course goats...these are just a few of the activities that are part of our eagerly anticipated fall festival\, Celebrate Fall! With Halloween right around the corner\, families can explore our Spooky Trail\, decorate a pumpkin\, and join our costume parade. Or enjoy the golden autumn colors and crisp weather with some yummy fare from one of the vendors. And the pumpkin carving contest returns! Please click here for more information and the contest rules! Celebrate Fall is FREE for RRA Members and children under 3. The cost for Non-Members is $10/person\, $25 maximum per family. Pre-registration is not required. Payment is taken at the front gate. Questions? Please contact Jackie Kondel at 908-273-8787 ext. 1515 or j.kondel@reeves-reedarboretum.org. Date/Time: Saturday\, October 21\, 11:00am to 4:00pm. Location: Reeves-Reed Arboretum\, 165 Hobart Ave.\, Summit\, NJ  RRA's Pumpkin Carving Contest Rules and Entry Form: Visit our Web Site
X-ALT-DESC;FMTTYPE=text/html:SAVE THE DATE! Games\, crafts\, music\, face painting\, and of course goats...these are just a few of the activities that are part of our eagerly anticipated fall festival\, Celebrate Fall! With Halloween right around the corner\, families can explore our Spooky Trail\, decorate a pumpkin\, and join our costume parade. Or enjoy the golden autumn colors and crisp weather with some yummy fare from one of the vendors. And the pumpkin carving contest returns! Please click here for more information and the contest rules! Celebrate Fall is FREE for RRA Members and children under 3. The cost for Non-Members is $10/person\, $25 maximum per family. Pre-registration is not required. Payment is taken at the front gate. Questions? Please contact Jackie Kondel at 908-273-8787 ext. 1515 or j.kondel@reeves-reedarboretum.org. Date/Time: Saturday\, October 21\, 11:00am to 4:00pm. Location: Reeves-Reed Arboretum\, 165 Hobart Ave.\, Summit\, NJ&nbsp\; RRA&rsquo\;s Pumpkin Carving Contest Rules and Entry Form: Visit our Web Site&nbsp\;
LOCATION:Reeves-Reed Arboretum 165 Hobart Ave. Summit\, NJ 07901
UID:e.870.14524
SEQUENCE:3
DTSTAMP:20260421T011105Z
URL:https://business.suburbanchambers.org/events/details/celebrate-fall-2018-at-reeves-reed-arboretum-14524
END:VEVENT

END:VCALENDAR
