BEGIN:VCALENDAR
VERSION:2.0
PRODID:-//ChamberMaster//Event Calendar 2.0//EN
METHOD:PUBLISH
X-PUBLISHED-TTL:P3D
REFRESH-INTERVAL:P3D
CALSCALE:GREGORIAN
BEGIN:VEVENT
DTSTART:20181215T180000Z
DTEND:20181215T210000Z
X-MICROSOFT-CDO-ALLDAYEVENT:FALSE
SUMMARY:Carriages & Carolers - December 8\, 15\, 22
DESCRIPTION:Take a break from your downtown shopping to enjoy holiday music and free horse and carriage rides from 1-4pm Saturdays December 8\, 15\, and 22. The boarding location will be Lyric Park\, located at the corner of Bank Street and Beechwood Road. Use 17 Beechwood Road for GPS.\n\nSpecial thanks to Harmony Home Concierge for sponsoring the Horse & Carriage Rides on Dec. 15!
X-ALT-DESC;FMTTYPE=text/html:<p>Take a break from your downtown shopping to enjoy holiday music and free horse and carriage rides from 1-4pm Saturdays December 8\, 15\, and 22. The boarding location will be Lyric Park\, located at the corner of Bank Street and Beechwood Road. Use 17 Beechwood Road for GPS.</p>\n\n<p>Special thanks to Harmony Home Concierge for sponsoring the Horse &amp\; Carriage Rides on Dec. 15!</p>\n
LOCATION:Summit\, New Jersey\, 07901
UID:e.870.14801
SEQUENCE:3
DTSTAMP:20260420T153313Z
URL:https://business.suburbanchambers.org/events/details/carriages-carolers-1-4pm-december-8-15-22-12-15-2018-14801
END:VEVENT

END:VCALENDAR
