BEGIN:VCALENDAR
VERSION:2.0
PRODID:-//ChamberMaster//Event Calendar 2.0//EN
METHOD:PUBLISH
X-PUBLISHED-TTL:P3D
REFRESH-INTERVAL:P3D
CALSCALE:GREGORIAN
BEGIN:VEVENT
DTSTART:20181008T230000Z
DTEND:20181009T003000Z
X-MICROSOFT-CDO-ALLDAYEVENT:FALSE
SUMMARY:Caregiver Support Group for Adult Children
DESCRIPTION:A support group for adult children who act as their parents' caregivers is led by Licensed Clinical Social Worker and InfoCare Manager Kathy Larkin. The group covers topics such as balancing work and the needs of their families\, long-distance caregiving\, family conflicts\, finding resources\, and navigating the healthcare system.
X-ALT-DESC;FMTTYPE=text/html:A support group for adult children who act as their parents&rsquo\; caregivers is led by Licensed Clinical Social Worker and InfoCare Manager Kathy Larkin. The group covers topics such as balancing work and the needs of their families\, long-distance caregiving\, family conflicts\, finding resources\, and navigating the healthcare system.&nbsp\;&nbsp\;
LOCATION:SAGE Eldercare 290 Broad Street Summit NJ 07901
UID:e.870.14407
SEQUENCE:3
DTSTAMP:20260421T011429Z
URL:https://business.suburbanchambers.org/events/details/caregiver-support-group-for-adult-children-14407
END:VEVENT

END:VCALENDAR
