BEGIN:VCALENDAR
VERSION:2.0
PRODID:-//ChamberMaster//Event Calendar 2.0//EN
METHOD:PUBLISH
X-PUBLISHED-TTL:P3D
REFRESH-INTERVAL:P3D
CALSCALE:GREGORIAN
BEGIN:VEVENT
DTSTART:20190508T224500Z
DTEND:20190508T234500Z
X-MICROSOFT-CDO-ALLDAYEVENT:FALSE
SUMMARY:Camp Parent Orientation at The Connection
DESCRIPTION:6:45-7:45 Everything you need to know for your kids to have the best summer experience! Camp Directors will provide an overview session covering: activities\, what to expect this summer\, what to pack and more. 79 Maple St. Summit. 908-273-4242 FREE and open to the public.
X-ALT-DESC;FMTTYPE=text/html:<span style="font-family:times new roman\,serif"><span style="font-size:12.0pt">6:45-7:45 </span></span><span style="font-family:times new roman\,serif">Everything you need to know for your kids to have the best summer experience! Camp Directors will provide an overview session covering: activities\, what to expect this&nbsp\;summer\, what to pack and more.</span><span style="font-family:times new roman\,serif"><span style="font-size:12.0pt"> 79 Maple St. Summit. 908-273-4242 FREE and open to the public.</span></span>
LOCATION:79 Maple St.\, Summit\, NJ
UID:e.870.15446
SEQUENCE:3
DTSTAMP:20260419T232702Z
URL:https://business.suburbanchambers.org/events/details/camp-parent-orientation-at-the-connection-15446
END:VEVENT

END:VCALENDAR
