BEGIN:VCALENDAR
VERSION:2.0
PRODID:-//ChamberMaster//Event Calendar 2.0//EN
METHOD:PUBLISH
X-PUBLISHED-TTL:P3D
REFRESH-INTERVAL:P3D
CALSCALE:GREGORIAN
BEGIN:VEVENT
DTSTART:20181202T133000Z
DTEND:20181202T141500Z
X-MICROSOFT-CDO-ALLDAYEVENT:FALSE
SUMMARY:Came to Believe
DESCRIPTION:Came to Believe The First Sunday of every month\, 8:30am A casual monthly service of worship for Friends and Members of the Recovery Community\; at the United Methodist Church of Summit: Corner of Kent Place Boulevard and DeForest Avenue Summit\, NJ 07901 In the Chapel (DeForest Avenue entrance) 908-277-1700 umcofsummit@gmail.com
X-ALT-DESC;FMTTYPE=text/html:Came to Believe The First Sunday of every month\, 8:30am A casual monthly service of worship for Friends and Members of the Recovery Community\; at the United Methodist Church of Summit: Corner of Kent Place Boulevard and DeForest Avenue Summit\, NJ 07901 In the Chapel (DeForest Avenue entrance) 908-277-1700 umcofsummit@gmail.com
LOCATION:The United Methodist Church of Summit - Chapel 17 Kent Place Boulevard Summit\, NJ
UID:e.870.14283
SEQUENCE:3
DTSTAMP:20260420T183827Z
URL:https://business.suburbanchambers.org/events/details/came-to-believe-12-02-2018-14283
END:VEVENT

END:VCALENDAR
