BEGIN:VCALENDAR
VERSION:2.0
PRODID:-//ChamberMaster//Event Calendar 2.0//EN
METHOD:PUBLISH
X-PUBLISHED-TTL:P3D
REFRESH-INTERVAL:P3D
CALSCALE:GREGORIAN
BEGIN:VEVENT
DTSTART:20190303T133000Z
DTEND:20190303T141500Z
X-MICROSOFT-CDO-ALLDAYEVENT:FALSE
SUMMARY:Came to Believe
DESCRIPTION:A casual monthly service of worship for Friends and Members of the Recovery Community\; at the United Methodist Church of Summit: Corner of Kent Place Boulevard and DeForest Avenue Summit\, NJ 07901 In the Chapel (DeForest Avenue entrance)
X-ALT-DESC;FMTTYPE=text/html:&nbsp\;A casual monthly service of worship for Friends and Members of the Recovery Community\; at the United Methodist Church of Summit: Corner of Kent Place Boulevard and DeForest Avenue Summit\, NJ 07901 In the Chapel (DeForest Avenue entrance)&nbsp\;
LOCATION:The United Methodist Church of Summit 17 Kent Place Boulevard Summit\, NJ07901
UID:e.870.14765
SEQUENCE:3
DTSTAMP:20260420T080637Z
URL:https://business.suburbanchambers.org/events/details/came-to-believe-03-03-2019-14765
END:VEVENT

END:VCALENDAR
