BEGIN:VCALENDAR
VERSION:2.0
PRODID:-//ChamberMaster//Event Calendar 2.0//EN
METHOD:PUBLISH
X-PUBLISHED-TTL:P3D
REFRESH-INTERVAL:P3D
CALSCALE:GREGORIAN
BEGIN:VEVENT
DTSTART:20181028T200000Z
DTEND:20181028T220000Z
X-MICROSOFT-CDO-ALLDAYEVENT:FALSE
SUMMARY:Calvary Chorale presents Contrasting Masses II
DESCRIPTION:The Calvary Chorale will present Contrasting Masses II featuring a Solemn Mass by Louis Vierne and A Little Jazz Mass by Bob Chilcott. The program will also feature several anthems by Verne and Chilcott as a transition between the two musical styles. The mass will be accompanied by a jazz trio which will include Jonathan Clancy on drums\, Jefferey Clearman on piano and Stephen Groat on string bass. Please join Kevin Davis and the Chorale and our talented musicians for this exciting and intriguing concert! Reception to meet the artists to follow.
X-ALT-DESC;FMTTYPE=text/html:The Calvary Chorale will present Contrasting Masses II featuring a Solemn Mass by Louis Vierne and A Little Jazz Mass by Bob Chilcott. The program will also feature several anthems by Verne and Chilcott as a transition between the two musical styles. The mass will be accompanied by a jazz trio which will include Jonathan Clancy on drums\, Jefferey Clearman on piano and Stephen Groat on string bass. Please join Kevin Davis and the Chorale and our talented musicians for this exciting and intriguing concert! Reception to meet the artists to follow.
LOCATION:Calvary Episcopal Church 31 Woodland Ave. Summit\, NJ
UID:e.870.14557
SEQUENCE:3
DTSTAMP:20260421T011105Z
URL:https://business.suburbanchambers.org/events/details/calvary-chorale-presents-contrasting-masses-ii-14557
END:VEVENT

END:VCALENDAR
