BEGIN:VCALENDAR
VERSION:2.0
PRODID:-//ChamberMaster//Event Calendar 2.0//EN
METHOD:PUBLISH
X-PUBLISHED-TTL:P3D
REFRESH-INTERVAL:P3D
CALSCALE:GREGORIAN
BEGIN:VEVENT
DTSTART:20181110T010000Z
DTEND:20181110T030000Z
X-MICROSOFT-CDO-ALLDAYEVENT:FALSE
SUMMARY:Cabaret @ MONDO
DESCRIPTION:This year we're presenting our cabaret at MONDO\, our favorite downtown venue for the arts! Our theme will be A MUSICAL STATE OF MIND\, which will feature favorite songs that contain the names and distinctive flavors of some of our great states. You might hear James Taylor's Carolina in My Mind\, New York\, New York\, Moonlight in Vermont\, Tom Waits' Jersey Girl and many more brought to you by Dreamcatcher's singers and their guests.
X-ALT-DESC;FMTTYPE=text/html:This year we&#39\;re presenting our cabaret at MONDO\, our favorite downtown venue for the arts! Our theme will be A MUSICAL STATE OF MIND\, which will feature favorite songs that contain the names and distinctive flavors of some of our great states. You might hear James Taylor&#39\;s Carolina in My Mind\, New York\, New York\, Moonlight in Vermont\, Tom Waits&#39\; Jersey Girl and many more brought to you by Dreamcatcher&#39\;s singers and their guests.
LOCATION:Dreamcatcher Repertory Theatre @ MONDO 426 Springfield Avenue Summit\, NJ
UID:e.870.14416
SEQUENCE:3
DTSTAMP:20260420T215610Z
URL:https://business.suburbanchambers.org/events/details/cabaret-mondo-14416
END:VEVENT

END:VCALENDAR
