BEGIN:VCALENDAR
VERSION:2.0
PRODID:-//ChamberMaster//Event Calendar 2.0//EN
METHOD:PUBLISH
X-PUBLISHED-TTL:P3D
REFRESH-INTERVAL:P3D
CALSCALE:GREGORIAN
BEGIN:VEVENT
DTSTART:20190530T190000Z
DTEND:20190530T203000Z
X-MICROSOFT-CDO-ALLDAYEVENT:FALSE
SUMMARY:Build Your Summer Reading Lists
DESCRIPTION:You know you have to read this summer for school\, so might as well choose titles you'll enjoy! Come learn how to find your new favorites by using GoodReads\, Novelist and other reading guides. Please register for this event on NP Community Pass.
X-ALT-DESC;FMTTYPE=text/html:You know you have to read this summer for school\, so might as well choose titles you&#39\;ll enjoy! Come learn how to find your new favorites by using GoodReads\, Novelist and other reading guides. Please register for this event on NP Community Pass.
LOCATION:New Providence Memorial Library
UID:e.870.15412
SEQUENCE:3
DTSTAMP:20260419T190421Z
URL:https://business.suburbanchambers.org/events/details/build-your-summer-reading-lists-15412
END:VEVENT

END:VCALENDAR
