BEGIN:VCALENDAR
VERSION:2.0
PRODID:-//ChamberMaster//Event Calendar 2.0//EN
METHOD:PUBLISH
X-PUBLISHED-TTL:P3D
REFRESH-INTERVAL:P3D
CALSCALE:GREGORIAN
BEGIN:VEVENT
DTSTART:20181012T223000Z
DTEND:20181013T000000Z
X-MICROSOFT-CDO-ALLDAYEVENT:FALSE
SUMMARY:Brite Nites
DESCRIPTION:It's back! Returning for a seventh year\, Wagner Farm Arboretum's spectacular Halloween-themed event "Brite Nites" showcases an elaborate display of intricately and creatively hand-carved and lighted pumpkins. Meander through our garden path filled with breath-taking pumpkin sculptures\, where you will be astounded by their complexity and originality. New this year is the partnership with Dusk Productions to bring you an even bigger haunting experience with our "Barn of Fear" display. Watch out for the roaming ghouls\, vampires and witches. The whole family will be entertained with a night to remember. In addition\, we will have a food pavilion where you can enjoy a quick bite from a wide selection of food trucks. Hot cocoa and cider will be available for purchase.
X-ALT-DESC;FMTTYPE=text/html:It&#39\;s back! Returning for a seventh year\, Wagner Farm Arboretum&#39\;s spectacular Halloween-themed event &quot\;Brite Nites&quot\;&nbsp\;showcases an elaborate display of intricately and creatively hand-carved and lighted pumpkins. Meander through our garden path filled with breath-taking pumpkin sculptures\, where you will be astounded by their complexity and originality. New this year is the partnership with Dusk Productions to bring you an even bigger haunting experience with our &quot\;Barn of Fear&quot\; display. Watch out for the roaming ghouls\, vampires and witches. The whole family will be entertained with a night to remember. In addition\, we will have a food pavilion where you can enjoy a quick bite from a wide selection of food trucks. Hot cocoa and cider will be available for purchase.
LOCATION:Wagner Farm Arboretum 197 Mountain Ave Warren\, NJ
UID:e.870.14496
SEQUENCE:3
DTSTAMP:20260420T213722Z
URL:https://business.suburbanchambers.org/events/details/brite-nites-14496
END:VEVENT

END:VCALENDAR
