BEGIN:VCALENDAR
VERSION:2.0
PRODID:-//ChamberMaster//Event Calendar 2.0//EN
METHOD:PUBLISH
X-PUBLISHED-TTL:P3D
REFRESH-INTERVAL:P3D
CALSCALE:GREGORIAN
BEGIN:VEVENT
DTSTART:20221020T223000Z
DTEND:20221021T010000Z
X-MICROSOFT-CDO-ALLDAYEVENT:FALSE
SUMMARY:Brite Nites
DESCRIPTION:The 11th Annual Wagner Farm Arboretum's Halloween-themed "Brite Nites" event showcases an elaborate display of intricately and creatively hand-carved and LED lighted pumpkin scenes. Displays include a jungle and a skeleton bike tour! Photo op spots available. This is both a drive through and walk through event\, depending on the date. Check the website for more information: www.WFAFNJ.org
X-ALT-DESC;FMTTYPE=text/html:The 11th Annual Wagner Farm Arboretum's Halloween-themed "Brite Nites" event showcases an elaborate display of intricately and creatively hand-carved and LED lighted pumpkin scenes. Displays include a jungle and a skeleton bike tour! Photo op spots available. This is both a drive through and walk through event\, depending on the date. Check the website for more information: www.WFAFNJ.org
LOCATION:Wagner Farm Arboretum 197 Mountain Avenue Warren\, NJ
UID:e.870.17681
SEQUENCE:3
DTSTAMP:20260422T090938Z
URL:https://business.suburbanchambers.org/events/details/brite-nites-10-20-2022-17681
END:VEVENT

END:VCALENDAR
