BEGIN:VCALENDAR
VERSION:2.0
PRODID:-//ChamberMaster//Event Calendar 2.0//EN
METHOD:PUBLISH
X-PUBLISHED-TTL:P3D
REFRESH-INTERVAL:P3D
CALSCALE:GREGORIAN
BEGIN:VEVENT
DTSTART:20180902T130000Z
DTEND:20180902T090000Z
X-MICROSOFT-CDO-ALLDAYEVENT:FALSE
SUMMARY:Bring Us Your Bling! All year long!
DESCRIPTION:PLEASE DONATE YOUR UNWANTED JEWELRY FOR THE FRIENDS OF THE SUMMIT FREE PUBLIC LIBRARY DONATED JEWELRY SALE! We accept women's and men's\; vintage\, modern\, estate or costume! Bring us necklaces\, bracelets\, earrings\, watches (working AND non-working)\, tie clips\, tie tacks\, even broken pieces and single earrings-- we'll take it all! Drop off your donations at the Circulation Desk at the Library between now and Oct 21st\, and then be sure to join us for the sale! OUR NEXT DONATED JEWELRY SALE WILL BE OCTOBER 28th AND 29th! We now accept jewelry year round\, so keep us in mind when your jewelry box gets too crowded\, or you have jewelry that didn't sell at your garage or house sale! The Friends is a 501(c)(3) organization and donations are tax deductible to the full extent allowed. All proceeds benefit the library!
X-ALT-DESC;FMTTYPE=text/html:PLEASE DONATE YOUR UNWANTED JEWELRY FOR THE FRIENDS OF THE SUMMIT FREE PUBLIC LIBRARY DONATED JEWELRY SALE! We accept women&#39\;s and men&#39\;s\; vintage\, modern\, estate or costume! Bring us necklaces\, bracelets\, earrings\, watches (working AND non-working)\, tie clips\, tie tacks\, even broken pieces and single earrings-- we&#39\;ll take it all! Drop off your donations at the Circulation Desk at the Library between now and Oct 21st\, and then be sure to join us for the sale! OUR NEXT DONATED JEWELRY SALE WILL BE OCTOBER 28th AND 29th! We now accept jewelry year round\, so keep us in mind when your jewelry box gets too crowded\, or you have jewelry that didn&#39\;t sell at your garage or house sale! The Friends is a 501(c)(3) organization and donations are tax deductible to the full extent allowed. All proceeds benefit the library!
LOCATION:75 Maple St.\, Summit\, NJ 07901
UID:e.870.9526
SEQUENCE:3
DTSTAMP:20260421T041517Z
URL:https://business.suburbanchambers.org/events/details/bring-us-your-bling-all-year-long-09-02-2018-9526
END:VEVENT

END:VCALENDAR
