BEGIN:VCALENDAR
VERSION:2.0
PRODID:-//ChamberMaster//Event Calendar 2.0//EN
METHOD:PUBLISH
X-PUBLISHED-TTL:P3D
REFRESH-INTERVAL:P3D
CALSCALE:GREGORIAN
BEGIN:VEVENT
DTSTART:20190202T140000Z
DTEND:20190203T020000Z
X-MICROSOFT-CDO-ALLDAYEVENT:FALSE
SUMMARY:Bring Us Your Bling!
DESCRIPTION:PLEASE DONATE YOUR UNWANTED JEWELRY TO THE FRIENDS OF THE SUMMIT FREE PUBLIC LIBRARY DONATED JEWELRY SALE! We now accept jewelry year round\, so keep us in mind when your jewelry box gets too crowded\, or you have jewelry that didn't sell at your garage or house sale! We accept women's and men's\; vintage\, modern\, estate or costume! Bring us necklaces\, bracelets\, earrings\, watches (working AND non-working)\, tie clips\, tie tacks\, even broken pieces and single earrings-- we'll take it all! Drop off your donations at the Circulation Desk any time the Library is open. And be sure to check the Friends' website https://summitfriendsofthelibrary.wildapricot.org/events for the dates of the next sale and information about membership. The Friends is a 501(c)(3) organization and donations are tax deductible to the full extent allowed. All proceeds benefit the library.
X-ALT-DESC;FMTTYPE=text/html:PLEASE DONATE YOUR UNWANTED JEWELRY TO THE FRIENDS OF THE SUMMIT FREE PUBLIC LIBRARY DONATED JEWELRY SALE! We now accept jewelry year round\, so keep us in mind when your jewelry box gets too crowded\, or you have jewelry that didn&#39\;t sell at your garage or house sale! We accept women&#39\;s and men&#39\;s\; vintage\, modern\, estate or costume! Bring us necklaces\, bracelets\, earrings\, watches (working AND non-working)\, tie clips\, tie tacks\, even broken pieces and single earrings-- we&#39\;ll take it all! Drop off your donations at the Circulation Desk any time the Library is open. And be sure to check the Friends&#39\; website https://summitfriendsofthelibrary.wildapricot.org/events for the dates of the next sale and information about membership. The Friends is a 501(c)(3) organization and donations are tax deductible to the full extent allowed. All proceeds benefit the library.
LOCATION:Summit Free Public Library 75 Maple St. Summit\, NJ
UID:e.870.10705
SEQUENCE:3
DTSTAMP:20260420T075726Z
URL:https://business.suburbanchambers.org/events/details/bring-us-your-bling-02-02-2019-10705
END:VEVENT

END:VCALENDAR
