BEGIN:VCALENDAR
VERSION:2.0
PRODID:-//ChamberMaster//Event Calendar 2.0//EN
METHOD:PUBLISH
X-PUBLISHED-TTL:P3D
REFRESH-INTERVAL:P3D
CALSCALE:GREGORIAN
BEGIN:VEVENT
DTSTART:20200617T130000Z
DTEND:20200617T140000Z
X-MICROSOFT-CDO-ALLDAYEVENT:FALSE
SUMMARY:Breakfast and Learn with Brian Brodeur!
DESCRIPTION:A Zoom Breakfast and Learn \n\nThe Topic ... the "New Normal" on Video Conferencing!
X-ALT-DESC;FMTTYPE=text/html:A Zoom Breakfast and Learn&nbsp\;<br />\nThe Topic ... the &quot\;New Normal&quot\; on Video Conferencing!
LOCATION:
UID:e.870.17307
SEQUENCE:3
DTSTAMP:20260419T132013Z
URL:https://business.suburbanchambers.org/events/details/breakfast-and-learn-with-brian-brodeur-17307
END:VEVENT

END:VCALENDAR
