BEGIN:VCALENDAR
VERSION:2.0
PRODID:-//ChamberMaster//Event Calendar 2.0//EN
METHOD:PUBLISH
X-PUBLISHED-TTL:P3D
REFRESH-INTERVAL:P3D
CALSCALE:GREGORIAN
BEGIN:VEVENT
DTSTART:20180925T223000Z
DTEND:20180926T000000Z
X-MICROSOFT-CDO-ALLDAYEVENT:FALSE
SUMMARY:Brain Balance Discovery Night
DESCRIPTION:Hey parents -- you are invited to come see what Brain Balance is all about! Come to our Parent Discovery Night! Join us for Parent Discovery Night to hear from parents just like you who have been through or are currently in the Brain Balance Program! Our families will share their personal experience during their child's journey and we will answer any questions you might have about our program and how it works! Stop by Brain Balance of Summit to hear amazing stories\, meet our staff and learn about how Brain Balance of Summit can help you and your family. RSVP on Facebook or call us at (908) 517-1101 to let us know you are coming. See you soon!
X-ALT-DESC;FMTTYPE=text/html:Hey parents -- you are invited to come see what Brain Balance is all about! Come to our Parent Discovery Night! Join us for Parent Discovery Night to hear from parents just like you who have been through or are currently in the Brain Balance Program! Our families will share their personal experience during their child&rsquo\;s journey and we will answer any questions you might have about our program and how it works! Stop by Brain Balance of Summit to hear amazing stories\, meet our staff and learn about how Brain Balance of Summit can help you and your family. RSVP on Facebook or call us at (908) 517-1101 to let us know you are coming. See you soon!
LOCATION:33 Union Place\, 2nd Floor Summit\, NJ 07901
UID:e.870.14495
SEQUENCE:3
DTSTAMP:20260421T005828Z
URL:https://business.suburbanchambers.org/events/details/brain-balance-discovery-night-14495
END:VEVENT

END:VCALENDAR
