BEGIN:VCALENDAR
VERSION:2.0
PRODID:-//ChamberMaster//Event Calendar 2.0//EN
METHOD:PUBLISH
X-PUBLISHED-TTL:P3D
REFRESH-INTERVAL:P3D
CALSCALE:GREGORIAN
BEGIN:VEVENT
DTSTART:20190505T160000Z
DTEND:20190505T190000Z
X-MICROSOFT-CDO-ALLDAYEVENT:FALSE
SUMMARY:Bow Wow Brunch
DESCRIPTION:Featuring emcee Michelle Charlesworth\, reporter for ABC News and Home for Good Dog Rescue adopter\, we will celebrate Cinco de Mayo at the Grand Summit Hotel on May 5\, 2019. Enjoy an afternoon of festive food\, signature drinks\, and exclusive auction prizes. Every ticket purchased will benefit our mission to expand our ability to find dogs their furever home.
X-ALT-DESC;FMTTYPE=text/html:Featuring emcee Michelle Charlesworth\, reporter for ABC News and Home for Good Dog Rescue adopter\, we will celebrate Cinco de Mayo at the Grand Summit Hotel on May 5\, 2019. Enjoy an afternoon of festive food\, signature drinks\, and exclusive auction prizes. Every ticket purchased will benefit our mission to expand our ability to find dogs their furever home.
LOCATION:The Grand Summit Hotel 570 Springfield Avenue Summit\, New Jersey 07901
UID:e.870.15396
SEQUENCE:3
DTSTAMP:20260419T190921Z
URL:https://business.suburbanchambers.org/events/details/bow-wow-brunch-05-05-2019-15396
END:VEVENT

END:VCALENDAR
