BEGIN:VCALENDAR
VERSION:2.0
PRODID:-//ChamberMaster//Event Calendar 2.0//EN
METHOD:PUBLISH
X-PUBLISHED-TTL:P3D
REFRESH-INTERVAL:P3D
CALSCALE:GREGORIAN
BEGIN:VEVENT
DTSTART:20190110T200000Z
DTEND:20190110T210000Z
X-MICROSOFT-CDO-ALLDAYEVENT:FALSE
SUMMARY:#BookFace Fun
DESCRIPTION:Bring your smartphone camera and we'll have fun making BookFace photos using popular book cover photos and illustrations. Teen program\, open to students in grades 6-12.
X-ALT-DESC;FMTTYPE=text/html:Bring your smartphone camera and we&#39\;ll have fun making BookFace photos using popular book cover photos and illustrations. Teen program\, open to students in grades 6-12.
LOCATION:New Providence Memorial Library
UID:e.870.15195
SEQUENCE:3
DTSTAMP:20260420T142410Z
URL:https://business.suburbanchambers.org/events/details/bookface-fun-15195
END:VEVENT

END:VCALENDAR
