BEGIN:VCALENDAR
VERSION:2.0
PRODID:-//ChamberMaster//Event Calendar 2.0//EN
METHOD:PUBLISH
X-PUBLISHED-TTL:P3D
REFRESH-INTERVAL:P3D
CALSCALE:GREGORIAN
BEGIN:VEVENT
DTSTART:20230414T170000Z
DTEND:20230414T230000Z
X-MICROSOFT-CDO-ALLDAYEVENT:FALSE
SUMMARY:Book Donations Wanted
DESCRIPTION:Book Donations wanted for Summit College Club Book Sale
X-ALT-DESC;FMTTYPE=text/html:Book Donations wanted for Summit College Club Book Sale
LOCATION:American Legion Post 433 357 Elkwood Avenue New Providence\, NJ 07974
UID:e.870.18358
SEQUENCE:3
DTSTAMP:20260424T145801Z
URL:https://business.suburbanchambers.org/events/details/book-donations-wanted-18358
END:VEVENT

END:VCALENDAR
