BEGIN:VCALENDAR
VERSION:2.0
PRODID:-//ChamberMaster//Event Calendar 2.0//EN
METHOD:PUBLISH
X-PUBLISHED-TTL:P3D
REFRESH-INTERVAL:P3D
CALSCALE:GREGORIAN
BEGIN:VEVENT
DTSTART:20190121T200000Z
DTEND:20190121T210000Z
X-MICROSOFT-CDO-ALLDAYEVENT:FALSE
SUMMARY:BLANKETS FOR COZIES 4 CHEMO at the Summit Area YMCA
DESCRIPTION:Come to the Berkeley Heights YMCA to give back to others on our Day of Service in honor of Dr. Martin Luther King Jr. Volunteers can help prepare fleece blankets for children to assemble. Everyone is welcome to attend. All Blankets will be donated to Cozies 4 Chemo. For more information\, contact: BERKELEY HEIGHTS YMCA Tiffany Escott (P) 908-464-8373 ext. 2021 (E) tiffany.escott@thesay.org
X-ALT-DESC;FMTTYPE=text/html:Come to the Berkeley Heights YMCA to give back to others on our Day of Service in honor of Dr. Martin Luther King Jr. Volunteers can help prepare fleece blankets for children to assemble. Everyone is welcome to attend. All Blankets will be donated to Cozies 4 Chemo. For more information\, contact: BERKELEY HEIGHTS YMCA Tiffany Escott (P) 908-464-8373 ext. 2021 (E) tiffany.escott@thesay.org
LOCATION:Berkeley Heights YMCA 550 Springfield Avenue Berkeley Heights\, NJ
UID:e.870.15220
SEQUENCE:3
DTSTAMP:20260420T114055Z
URL:https://business.suburbanchambers.org/events/details/blankets-for-cozies-4-chemo-at-the-summit-area-ymca-15220
END:VEVENT

END:VCALENDAR
